BEGIN:VCALENDAR
VERSION:2.0
PRODID:-//New Ventures BC - ECPv6.15.14//NONSGML v1.0//EN
CALSCALE:GREGORIAN
METHOD:PUBLISH
X-ORIGINAL-URL:https://www.newventuresbc.com
X-WR-CALDESC:Events for New Ventures BC
REFRESH-INTERVAL;VALUE=DURATION:PT1H
X-Robots-Tag:noindex
X-PUBLISHED-TTL:PT1H
BEGIN:VTIMEZONE
TZID:America/Vancouver
BEGIN:DAYLIGHT
TZOFFSETFROM:-0800
TZOFFSETTO:-0700
TZNAME:PDT
DTSTART:20220313T100000
END:DAYLIGHT
BEGIN:STANDARD
TZOFFSETFROM:-0700
TZOFFSETTO:-0800
TZNAME:PST
DTSTART:20221106T090000
END:STANDARD
BEGIN:DAYLIGHT
TZOFFSETFROM:-0800
TZOFFSETTO:-0700
TZNAME:PDT
DTSTART:20230312T100000
END:DAYLIGHT
BEGIN:STANDARD
TZOFFSETFROM:-0700
TZOFFSETTO:-0800
TZNAME:PST
DTSTART:20231105T090000
END:STANDARD
BEGIN:DAYLIGHT
TZOFFSETFROM:-0800
TZOFFSETTO:-0700
TZNAME:PDT
DTSTART:20240310T100000
END:DAYLIGHT
BEGIN:STANDARD
TZOFFSETFROM:-0700
TZOFFSETTO:-0800
TZNAME:PST
DTSTART:20241103T090000
END:STANDARD
END:VTIMEZONE
BEGIN:VEVENT
DTSTART;TZID=America/Vancouver:20231109T120000
DTEND;TZID=America/Vancouver:20231109T133000
DTSTAMP:20260421T045119
CREATED:20231025T192938Z
LAST-MODIFIED:20231025T192938Z
UID:31186-1699531200-1699536600@www.newventuresbc.com
SUMMARY:Tech Yukon: Intellectual Property Rights and Wrongs
DESCRIPTION:Rachel Burns and Angie Schick from AccelerateIP will discuss how this new program can help you understand the complex topic of Intellectual Property. AccelerateIP can help you protect\, manage\, and leverage your ideas and intellectual assets through education\, skills development\, and financial support. In addition\, Chang Han\, IP Executive in Residence for AccelerateIP\, will provide an overview of why IP matters and how it can be applied to your startup. \nFollowing the seminar\, the team will provide office hours at Northlight so attendees can stop by and chat or ask questions about IP and the program! More info coming soon. \n  \nThis presentation is brought to you by Tech Yukon\, partnering with NewVenturesBC on the AccelerateIP program. Tech Yukon is a non-profit organization that serves as a hub for technology and innovation in the Yukon by providing resources for entrepreneurs and building connections between businesses\, the government\, and the community. This is one of many excellent events offered as part of Yukon Innovation Week. \n  \nButton Text
URL:https://www.newventuresbc.com/event/tech-yukon-intellectual-property-rights-and-wrongs/
ATTACH;FMTTYPE=image/jpeg:https://www.newventuresbc.com/wp-content/uploads/2023/10/YIW-AccelerateIP-scaled-1.jpg
END:VEVENT
BEGIN:VEVENT
DTSTART;TZID=America/Vancouver:20231128T170000
DTEND;TZID=America/Vancouver:20231128T190000
DTSTAMP:20260421T045119
CREATED:20231117T000504Z
LAST-MODIFIED:20231117T000504Z
UID:31220-1701190800-1701198000@www.newventuresbc.com
SUMMARY:IP & Innovation: Insights From Local Tech Leaders
DESCRIPTION:Canadian companies are among the most innovative in the world. Those who leverage their intellectual property (IP) strategically are more likely to be successful\, expand and experience success. \n​Join us for IP & Innovation: Insights from Local Tech Leaders\, where founders and industry experts will share strategies for intellectual property protection\, fostering innovation\, and driving growth. \n​Speakers include: \n\n​Otis Perrick\, CEO and Co-Founder\, Secur3D\n​Roger Kuypers\, Partner\, Fasken\n​Chang Han\, Lead Entrepreneur in Residence\, entrepreneurship@ubc\n​AccelerateIP Programs Team Member\n\n​Agenda: \n\n​Doors open and networking (light refreshments provided)\n​Remarks on AccelerateIP\, a New Ventures BC program\n​In-depth panel discussion and Q&A\n​Networking continues\n\n\n\n\n\n\nLocation\nFasken (Vancouver) \n\n\n\n\n550 Burrard St #2900\, Vancouver\, BC V6C 0A3\, Canada\n\n#2900\n\n\n \nButton Text
URL:https://www.newventuresbc.com/event/ip-innovation-insights-from-local-tech-leaders/
ATTACH;FMTTYPE=image/jpeg:https://www.newventuresbc.com/wp-content/uploads/2023/11/Blog-Eventbrite.jpg
END:VEVENT
END:VCALENDAR