BEGIN:VCALENDAR
VERSION:2.0
PRODID:-//New Ventures BC - ECPv6.15.14//NONSGML v1.0//EN
CALSCALE:GREGORIAN
METHOD:PUBLISH
X-WR-CALNAME:New Ventures BC
X-ORIGINAL-URL:https://www.newventuresbc.com
X-WR-CALDESC:Events for New Ventures BC
REFRESH-INTERVAL;VALUE=DURATION:PT1H
X-Robots-Tag:noindex
X-PUBLISHED-TTL:PT1H
BEGIN:VTIMEZONE
TZID:America/Vancouver
BEGIN:DAYLIGHT
TZOFFSETFROM:-0800
TZOFFSETTO:-0700
TZNAME:PDT
DTSTART:20250309T100000
END:DAYLIGHT
BEGIN:STANDARD
TZOFFSETFROM:-0700
TZOFFSETTO:-0800
TZNAME:PST
DTSTART:20251102T090000
END:STANDARD
BEGIN:DAYLIGHT
TZOFFSETFROM:-0800
TZOFFSETTO:-0700
TZNAME:PDT
DTSTART:20260308T100000
END:DAYLIGHT
BEGIN:STANDARD
TZOFFSETFROM:-0700
TZOFFSETTO:-0800
TZNAME:PST
DTSTART:20261101T090000
END:STANDARD
BEGIN:DAYLIGHT
TZOFFSETFROM:-0800
TZOFFSETTO:-0700
TZNAME:PDT
DTSTART:20270314T100000
END:DAYLIGHT
BEGIN:STANDARD
TZOFFSETFROM:-0700
TZOFFSETTO:-0800
TZNAME:PST
DTSTART:20271107T090000
END:STANDARD
END:VTIMEZONE
BEGIN:VEVENT
DTSTART;TZID=America/Vancouver:20260422T160000
DTEND;TZID=America/Vancouver:20260422T180000
DTSTAMP:20260422T031457
CREATED:20260331T231727Z
LAST-MODIFIED:20260331T232043Z
UID:35825-1776873600-1776880800@www.newventuresbc.com
SUMMARY:Summit Strategy Masterclass: Maximizing Conference Micro Moments
DESCRIPTION:Register Now\n  \nPrepare for high-stakes investor encounters between sessions. Learn to navigate the “hard questions” through live drills with investors\, ensuring you’re ready for every conference micro-moment. This session is led by Michelle Sklar\, Head of Marketing and Communications at Innovation UBC—a strategic communications leader with expertise in performance-driven growth marketing\, storytelling\, community building\, and entrepreneurship. \n\n​​A Road to Web Summit Vancouver (R2WSV) initiative\, the Summit Strategy Masterclass series is engineered for women tech founders to transform their conference experience from “simply attending” to executing a high-impact lead generation strategy. \n​​BONUS: Attend all 3 Summit Strategy Masterclass sessions for $40\, and be entered into a giveaway for a FREE Women-in-Tech Web Summit ticket! \n\nApril 15 – AI Advantage for Conference Prep\nApril 29 – Gender-Smart Investing\n\n​​WHO SHOULD ATTEND? \n\nWoman or non-binary tech founder\nBased in British Columbia\n\n​​EVENT DETAILS:\nDate: Wednesday\, April 22\nTime: 4:00 PM – 6:00 PM\nRegistration opens at 3:40 PM for those attending in-person.\nVenue: Four Bentall Centre\, 1055 Dunsmuir St Suite #800\nCost: $20 for one session\, $40 for all 3 sessions \n​Registered for all 3 Sessions? We will manually register for you for the subsequent Luma events\, so no need to register again! \n​​JOINING US ONLINE?\nThe Zoom link will be provided in your confirmation email.​ \nRegister Now
URL:https://www.newventuresbc.com/event/summit-strategy-masterclass-maximizing-conference-micro-moments/
LOCATION:Bentall Four\, 1055 Dunsmuir St.\, Vancouver\, BC\, V7X 1P3\, Canada
END:VEVENT
END:VCALENDAR